BEGIN:VCALENDAR
VERSION:2.0
PRODID:-//Kentucky Women&#039;s Network - ECPv6.15.20//NONSGML v1.0//EN
CALSCALE:GREGORIAN
METHOD:PUBLISH
X-WR-CALNAME:Kentucky Women&#039;s Network
X-ORIGINAL-URL:https://kywomensnetwork.com
X-WR-CALDESC:Events for Kentucky Women&#039;s Network
REFRESH-INTERVAL;VALUE=DURATION:PT1H
X-Robots-Tag:noindex
X-PUBLISHED-TTL:PT1H
BEGIN:VTIMEZONE
TZID:America/Kentucky/Louisville
BEGIN:DAYLIGHT
TZOFFSETFROM:-0500
TZOFFSETTO:-0400
TZNAME:EDT
DTSTART:20250309T070000
END:DAYLIGHT
BEGIN:STANDARD
TZOFFSETFROM:-0400
TZOFFSETTO:-0500
TZNAME:EST
DTSTART:20251102T060000
END:STANDARD
BEGIN:DAYLIGHT
TZOFFSETFROM:-0500
TZOFFSETTO:-0400
TZNAME:EDT
DTSTART:20260308T070000
END:DAYLIGHT
BEGIN:STANDARD
TZOFFSETFROM:-0400
TZOFFSETTO:-0500
TZNAME:EST
DTSTART:20261101T060000
END:STANDARD
BEGIN:DAYLIGHT
TZOFFSETFROM:-0500
TZOFFSETTO:-0400
TZNAME:EDT
DTSTART:20270314T070000
END:DAYLIGHT
BEGIN:STANDARD
TZOFFSETFROM:-0400
TZOFFSETTO:-0500
TZNAME:EST
DTSTART:20271107T060000
END:STANDARD
END:VTIMEZONE
BEGIN:VEVENT
DTSTART;TZID=America/Kentucky/Louisville:20260419T080000
DTEND;TZID=America/Kentucky/Louisville:20260419T170000
DTSTAMP:20260421T165634
CREATED:20260419T145828Z
LAST-MODIFIED:20260419T145828Z
UID:7966-1776585600-1776618000@kywomensnetwork.com
SUMMARY:Primary Election - no KWN Fayette Branch meeting
DESCRIPTION:Find complete information\, including mail-in voting and early voting info\, at Go Vote Kentucky. You can check your current voter registration information and find your polling place here. Visit CivicLex for info on LFUCG races. And sign up for a voter information guide to candidates at the Kentuckians for the Commonwealth website. \n 
URL:https://kywomensnetwork.com/event/primary-election-no-kwn-fayette-branch-meeting/
END:VEVENT
END:VCALENDAR